{"text_format":"3","workbook":"xlsx","n_sheets":4,"sheets":["ORIENTAÇÕES PARA PREENCHIMENTO","SIMULAÇÃO","Plan3","RESUMO"],"not_rendered":{"comments":1},"read":"whole","date_system":"1900"}

{"sheet":"ORIENTAÇÕES PARA PREENCHIMENTO","index":0,"n_rows":0,"n_cols":0,"rows_kept":0}

{"sheet":"SIMULAÇÃO","index":1,"n_rows":32,"n_cols":12,"rows_kept":32,"merged":[[0,0,0,8],[5,0,5,6],[12,0,12,6],[17,5,18,5],[17,6,18,6],[21,5,22,5],[21,6,22,6]]}
["SIMULAÇÃO DE CUSTOS PARA PLANTA DE PRODUÇÃO DE BIODIESEL",{"$nulls":8},"Capacidade padrão",null,1000]
[]
["Capacidade produtiva desejada para sua planta, em l/d (multiplos de 1.000 l/dia)",null,null,{"v":1000,"d":"1,000"},"Dias de produção ",312,"Preço médio BD ANP",{"v":2.255,"d":"R$ 2.255"}]
["Inserir cotação atual do dólar ($ -> R$)",null,null,{"v":3.34,"d":"R$ 3.34"},"Preço Diesel",{"v":2.94,"d":"R$ 2.94"},"Preço máx. BD ANP",{"v":2.827,"d":"R$ 2.827"}]
[]
["CUSTOS DE INVESTIMENTO - CAPEX"]
["ITEM","CATEGORIA","UNIDADE (U)","CUSTO UNITÁRIO ($/U)","QUANTIDADE (Q)","CUSTO TOTAL ($)","CUSTO TOTAL (R$)"]
["Capital Fixo de Investimento (CFI)","CFI","Quantidade de plantas",{"v":173000,"d":"$173,000.00"},1,{"$f":"(D8*E8)*($D$3/$L$1)","v":{"v":173000,"d":"$173,000.00"}},{"$f":"F8*$D$4","v":{"v":577820,"d":"R$ 577,820.00"}}]
["Capital de Giro","Capital Rotativo","Dias",{"v":619.9333333333333,"d":"$619.93"},30,{"$f":"(D9*E9)*($D$3/$L$1)","v":{"v":18598,"d":"$18,598.00"}},{"$f":"F9*$D$4","v":{"v":62117.32,"d":"R$ 62,117.32"}}]
[]
["TOTAL CAPEX ($)",{"$nulls":4},{"$f":"SUM(F8:F9)","v":{"v":191598,"d":"$191,598.00"}},{"$f":"F11*D4","v":{"v":639937.32,"d":"R$ 639,937.32"}}]
[]
["CUSTOS DE OPERAÇÃO - OPEX"]
["ITEM","CATEGORIA","UNIDADE (U)","CUSTO UNITÁRIO ($/U)","QUANTIDADE (Q)","CUSTO TOTAL ($)","CUSTO TOTAL (R$)"]
["Álcool (metanol)","Reagentes","kg",{"v":0.28,"d":"$0.28"},{"$f":"1220*82.78","v":{"v":100991.6,"d":"100,992"}},{"$f":"(D15*E15)*($D$3/$L$1)","v":{"v":28277.648000000005,"d":"$28,277.65"}},{"$f":"F15*$D$4","v":{"v":94447.34432000002,"d":"R$ 94,447.34"}}]
["Hidróxido de Sódio","Reagentes","kg",{"v":0.71,"d":"$0.71"},{"$f":"1220*3.75","v":{"v":4575,"d":"4,575"}},{"$f":"(D16*E16)*($D$3/$L$1)","v":{"v":3248.25,"d":"$3,248.25"}},{"$f":"F16*$D$4","v":{"v":10849.154999999999,"d":"R$ 10,849.16"}}]
["OGR","Reagentes","kg",0,0,{"$f":"(D17*E17)*($D$3/$L$1)","v":0},{"$f":"F17*$D$4","v":0}]
["Filtro de purificação","Consumíveis","unidade",{"v":54.35,"d":"$54.35"},"_",{"$f":"36871*($D$3/$L$1)","v":{"v":36871,"d":"$36,871.00"}},{"$f":"F18*D4","v":{"v":123149.14,"d":"R$ 123,149.14"}}]
["Resina de adsorção","Consumíveis","kg",{"v":3.76,"d":"$3.76"},"_"]
["Catadores operadores (2 op 3 turn)","Pessoal","homem-hora",{"$f":"D21/2","v":{"v":3.26605,"d":"$3.27"}},{"$f":"3*8*312","v":{"v":7488,"d":"7,488"}},{"$f":"(D20*E20)*($D$3/$L$1)","v":{"v":24456.182399999998,"d":"$24,456.18"}},{"$f":"F20*$D$4","v":{"v":81683.64921599999,"d":"R$ 81,683.65"}}]
["Coordenador técnico","Pessoal","homem-hora",{"v":6.5321,"d":"$6.53"},{"$f":"1*8*312","v":{"v":2496,"d":"2,496"}},{"$f":"(D21*E21)*($D$3/$L$1)","v":{"v":16304.121599999999,"d":"$16,304.12"}},{"$f":"F21*$D$4","v":{"v":54455.766143999994,"d":"R$ 54,455.77"}}]
["Água de resfriamento","Utilidades","t",{"v":0.285,"d":"$0.29"},"_",{"$f":"3212.343*($D$3/$L$1)","v":{"v":3212.343,"d":"$3,212.34"}},{"$f":"F22*D4","v":{"v":10729.22562,"d":"R$ 10,729.23"}}]
["Vapor de baixa pressão","Utilidades","t",{"v":18.15,"d":"$18.15"},"_"]
["Eletricidade","Utilidades","kWh",{"v":0.083,"d":"$0.08"},{"v":7779,"d":"7,779"},{"$f":"D24*E24","v":{"v":645.657,"d":"$645.66"}},{"$f":"F24*$D$4","v":{"v":2156.49438,"d":"R$ 2,156.49"}}]
["Manutenção de equipamentos","Facilidades","%",{"$f":"$F$8","v":{"v":173000,"d":"$173,000.00"}},{"v":0.05,"d":"5%"},{"$f":"D25*0.05","v":{"v":8650,"d":"$8,650.00"}},{"v":28891,"d":"R$ 28,891.00"}]
["Depreciação","Facilidades","%",{"$f":"$F$8","v":{"v":173000,"d":"$173,000.00"}},{"v":0.015,"d":"1.5%"},{"$f":"D26*0.014879","v":{"v":2574.067,"d":"$2,574.07"}},{"v":8597.38378,"d":"R$ 8,597.38"}]
["Seguro","Facilidades","%",{"$f":"$F$8","v":{"v":173000,"d":"$173,000.00"}},{"v":0.01,"d":"1%"},{"$f":"D27*0.01","v":{"v":1730,"d":"$1,730.00"}},{"v":5778.2,"d":"R$ 5,778.20"}]
["Impostos locais","Facilidades","%",{"$f":"$F$8","v":{"v":173000,"d":"$173,000.00"}},{"v":0.02,"d":"2%"},{"$f":"D28*0.02","v":{"v":3460,"d":"$3,460.00"}},{"v":11556.4,"d":"R$ 11,556.40"}]
["Despesas de fábrica","Facilidades","%",{"$f":"$F$8","v":{"v":173000,"d":"$173,000.00"}},{"v":0.05,"d":"5%"},{"$f":"D29*0.05","v":{"v":8650,"d":"$8,650.00"}},{"v":28891,"d":"R$ 28,891.00"}]
[]
["TOTAL OPEX ANUAL ($)",{"$nulls":4},{"$f":"SUM(F13:F29)","v":{"v":138079.269,"d":"$138,079.27"}},{"$f":"F31*D4","v":{"v":461184.75846,"d":"R$ 461,184.76"}}]
["OPEX MENSAL ($)",{"$nulls":4},{"$f":"F31/12","v":{"v":11506.60575,"d":"$11,506.61"}},{"$f":"F32*D4","v":{"v":38432.063205,"d":"R$ 38,432.06"}}]

{"sheet":"Plan3","index":2,"n_rows":0,"n_cols":0,"rows_kept":0,"hidden":true}

{"sheet":"RESUMO","index":3,"n_rows":10,"n_cols":4,"rows_kept":10}
["RESUMO"]
[]
["ITEM","DÓLAR ($)","REAL (R$)","DESCRIÇÃO"]
["CAPEX TOTAL",{"$f":"SIMULAÇÃO!F11","v":{"v":191598,"d":"$191,598.00"}},{"$f":"SIMULAÇÃO!G11","v":{"v":639937.32,"d":"R$ 639,937.32"}},"Custo de investimento total"]
["OPEX ANUAL",{"$f":"SIMULAÇÃO!F31","v":{"v":138079.269,"d":"$138,079.27"}},{"$f":"SIMULAÇÃO!G31","v":{"v":461184.75846,"d":"R$ 461,184.76"}},"Custo operacional anual"]
["OPEX MENSAL",{"$f":"SIMULAÇÃO!F32","v":{"v":11506.60575,"d":"$11,506.61"}},{"$f":"SIMULAÇÃO!G32","v":{"v":38432.063205,"d":"R$ 38,432.06"}},"Custo operacional mensal"]
["CUSTO DE PRODUÇÃO",{"$f":"B5/(SIMULAÇÃO!$D$3*SIMULAÇÃO!$F$3)","v":{"v":0.44256175961538463,"d":"$0.44"}},{"$f":"C5/(SIMULAÇÃO!$D$3*SIMULAÇÃO!$F$3)","v":{"v":1.4781562771153847,"d":"R$ 1.48"}},"Custo de produção do litro de biodiesel"]
["SOBRA OTIMISTA","_",{"$f":"SIMULAÇÃO!H4-C7","v":{"v":1.3488437228846153,"d":"R$ 1.35"}},"Sobra em caso de venda no preço máximo de referência do Leilão da ANP"]
["SOBRA MÉDIA","_",{"$f":"SIMULAÇÃO!H3-C7","v":{"v":0.7768437228846152,"d":"R$ 0.78"}},"Sobra em caso de venda no preço médio do Leilão da ANP"]
["ECONOMIA DIESEL","_",{"$f":"SIMULAÇÃO!F4-C7","v":{"v":1.4618437228846153,"d":"R$ 1.46"}},"Economia em cada litro de combustível pela utilização de próprio"]